BEGIN:VCALENDAR
VERSION:2.0
PRODID:-//eventon.com NONSGML v1.0//EN
CALSCALE:GREGORIAN
METHOD:PUBLISH
BEGIN:VEVENT
UID:69e8c350c340f
DTSTAMP:20260422T124712Z
DTSTART:20250129T180000Z
DTEND:20250129T225000Z
LOCATION:BILBAO. Sociedad Bilbaina
SUMMARY:CONCIERTO CANTO y CLARINETE
DESCRIPTION:Alix Allard &#8211; Soprano Estibaliz Arroyo &#8211; Soprano Ju
 len García &#8211; Barítono Gabriela Hernández &#8211; Clarinete bajo Ma
 nuel López &#8211; Corno di bassetto Ewout Nuyts &#8211; Corno di bassetto
  Asier Oroz &#8211; Piano\nhttps://musikene.eus/events/concierto-canto-y-cl
 arinete/
URL:https://musikene.eus/events/concierto-canto-y-clarinete/
END:VEVENT
END:VCALENDAR