BEGIN:VCALENDAR
VERSION:2.0
PRODID:-//eventon.com NONSGML v1.0//EN
CALSCALE:GREGORIAN
METHOD:PUBLISH
BEGIN:VEVENT
UID:69ed6fbc38f7a
DTSTAMP:20260426T015156Z
DTSTART:20250214T180000Z
DTEND:20250214T225000Z
LOCATION:Musikene
SUMMARY:CONCIERTO PIANO Y VIOLÍN
DESCRIPTION:CICLO CONCIERTO PROFESORADO Aikaterini Skanavi\,  piano Liana G
 ourdjia\, violín Entrada libre y gratuita hasta completar aforo\nhttps://m
 usikene.eus/events/concierto-piano-22/
URL:https://musikene.eus/events/concierto-piano-22/
END:VEVENT
END:VCALENDAR