BEGIN:VCALENDAR
VERSION:2.0
PRODID:-//eventon.com NONSGML v1.0//EN
CALSCALE:GREGORIAN
METHOD:PUBLISH
BEGIN:VEVENT
UID:69e756269cfda
DTSTAMP:20260421T104910Z
DTSTART:20250317T173000Z
DTEND:20250317T225000Z
LOCATION:Musikene
SUMMARY:CONCIERTO PERCUSIÓN
DESCRIPTION:I Ciclo de Conciertos “Percusión y Vanguardia” CUARTO CONC
 IERTO DEL CICLO: ENSEMBLE DE PERCUSIÓN DE MUSIKENE Fecha: 17 de marzo de 2
 025 dentro de las Jornadas de Puertas Abiertas Hora: 18:30 Lugar: Auditorio
  de Musikene Entrada libre hasta completar aforo Título: “Percusión y V
 anguardia” Más información aquí \nhttps://musikene.eus/events/concier
 to-percusion-7/
URL:https://musikene.eus/events/concierto-percusion-7/
END:VEVENT
END:VCALENDAR