BEGIN:VCALENDAR
VERSION:2.0
PRODID:-//eventon.com NONSGML v1.0//EN
CALSCALE:GREGORIAN
METHOD:PUBLISH
BEGIN:VEVENT
UID:69eba8254a04c
DTSTAMP:20260424T172805Z
DTSTART:20250304
DTEND:20250305
LOCATION:Musikene
SUMMARY:MASTERCLASS OBOE
DESCRIPTION:Robert Schumann Hochschule DÃ¼sseldorf Martes\,  4 de marzo MiÃ
 ©rcoles\,  5 de marzo &nbsp; &nbsp; &nbsp;\nhttps://musikene.eus/events/mas
 terclass-oboe-8/
URL:https://musikene.eus/events/masterclass-oboe-8/
END:VEVENT
END:VCALENDAR