BEGIN:VCALENDAR
VERSION:2.0
PRODID:-//eventon.com NONSGML v1.0//EN
CALSCALE:GREGORIAN
METHOD:PUBLISH
BEGIN:VEVENT
UID:69e910f0decb2
DTSTAMP:20260422T181824Z
DTSTART:20241125T093000Z
DTEND:20241125T225000Z
LOCATION:Musikene
SUMMARY:TRONPETA ENTZUNALDIA
DESCRIPTION:Luis González eta José Gallego irakasleen ikaslegoa\nhttps://
 musikene.eus/events/audicion-trompeta-28/?lang=eu
URL:https://musikene.eus/events/audicion-trompeta-28/?lang=eu
END:VEVENT
END:VCALENDAR