BEGIN:VCALENDAR
VERSION:2.0
PRODID:-//eventon.com NONSGML v1.0//EN
CALSCALE:GREGORIAN
METHOD:PUBLISH
BEGIN:VEVENT
UID:69e92dcb73b75
DTSTAMP:20260422T202131Z
DTSTART:20241125T093000Z
DTEND:20241125T225000Z
LOCATION:Musikene
SUMMARY:AUDICIÓN TROMPETA
DESCRIPTION:Alumnado de los profesores Luis González y José Gallego\nhttp
 s://musikene.eus/events/audicion-trompeta-28/
URL:https://musikene.eus/events/audicion-trompeta-28/
END:VEVENT
END:VCALENDAR