BEGIN:VCALENDAR
VERSION:2.0
PRODID:-//eventon.com NONSGML v1.0//EN
CALSCALE:GREGORIAN
METHOD:PUBLISH
BEGIN:VEVENT
UID:69ebcb8b8d5f1
DTSTAMP:20260424T195907Z
DTSTART:20250515T151500Z
DTEND:20250515T215000Z
LOCATION:Musikene
SUMMARY:FAGOT ENTZUNALDI BARROKOA
DESCRIPTION:David Tomás eta Alize Mendizabal irakasleen ikaslegoa\nhttps:/
 /musikene.eus/events/audicion-barroca-fagot-4/?lang=eu
URL:https://musikene.eus/events/audicion-barroca-fagot-4/?lang=eu
END:VEVENT
END:VCALENDAR