BEGIN:VCALENDAR
VERSION:2.0
PRODID:-//eventon.com NONSGML v1.0//EN
CALSCALE:GREGORIAN
METHOD:PUBLISH
BEGIN:VEVENT
UID:69ebe5c0dc472
DTSTAMP:20260424T215056Z
DTSTART:20250515T151500Z
DTEND:20250515T215000Z
LOCATION:Musikene
SUMMARY:AUDICIÓN BARROCA FAGOT
DESCRIPTION:Alumnado de los profesores David Tomás y Alize Mendizabal\nhtt
 ps://musikene.eus/events/audicion-barroca-fagot-4/
URL:https://musikene.eus/events/audicion-barroca-fagot-4/
END:VEVENT
END:VCALENDAR