BEGIN:VCALENDAR
VERSION:2.0
PRODID:-//eventon.com NONSGML v1.0//EN
CALSCALE:GREGORIAN
METHOD:PUBLISH
BEGIN:VEVENT
UID:69eba0c3d4494
DTSTAMP:20260424T165635Z
DTSTART:20250318T170000Z
DTEND:20250318T225000Z
LOCATION:Musikene
SUMMARY:AUDICIÓN MÚSICA DE CÁMARA
DESCRIPTION:Alumnado del profesor Karsten Dobers\nhttps://musikene.eus/even
 ts/audicion-musica-de-camara-47/?lang=en
URL:https://musikene.eus/events/audicion-musica-de-camara-47/?lang=en
END:VEVENT
END:VCALENDAR