BEGIN:VCALENDAR
VERSION:2.0
PRODID:-//eventon.com NONSGML v1.0//EN
CALSCALE:GREGORIAN
METHOD:PUBLISH
BEGIN:VEVENT
UID:69e6e7411348f
DTSTAMP:20260421T025601Z
DTSTART:20241218T150000Z
DTEND:20241218T225000Z
LOCATION:Musikene
SUMMARY:BIOLIN ENTZUNALDIA
DESCRIPTION:Tatiana Samouil\,  Izaskun Echeveste\,  Irini Gaitani eta Arkai
 tz Mendoza irakasleen ikaslegoa\nhttps://musikene.eus/events/audicion-violi
 n-88/?lang=eu
URL:https://musikene.eus/events/audicion-violin-88/?lang=eu
END:VEVENT
END:VCALENDAR