BEGIN:VCALENDAR
VERSION:2.0
PRODID:-//eventon.com NONSGML v1.0//EN
CALSCALE:GREGORIAN
METHOD:PUBLISH
BEGIN:VEVENT
UID:69e6e720b7202
DTSTAMP:20260421T025528Z
DTSTART:20241218T150000Z
DTEND:20241218T225000Z
LOCATION:Musikene
SUMMARY:AUDICIÓN VIOLÍN
DESCRIPTION:Alumnado de los profesores Tatiana Samouil\,  Izaskun Echeveste
 \,  Irini Gaitani y Arkaitz Mendoza\nhttps://musikene.eus/events/audicion-v
 iolin-88/?lang=fr
URL:https://musikene.eus/events/audicion-violin-88/?lang=fr
END:VEVENT
END:VCALENDAR