BEGIN:VCALENDAR
VERSION:2.0
PRODID:-//eventon.com NONSGML v1.0//EN
CALSCALE:GREGORIAN
METHOD:PUBLISH
BEGIN:VEVENT
UID:69eb336418cf1
DTSTAMP:20260424T090956Z
DTSTART:20250319T130000Z
DTEND:20250319T225000Z
LOCATION:Musikene
SUMMARY:CANCELADO!! AUDICIÓN CONTRABAJO
DESCRIPTION:Alumnado de los profesores Pierre De Maistre y Marta Moll\nhttp
 s://musikene.eus/events/audicion-contrabajo-28/
URL:https://musikene.eus/events/audicion-contrabajo-28/
END:VEVENT
END:VCALENDAR