BEGIN:VCALENDAR
VERSION:2.0
PRODID:-//eventon.com NONSGML v1.0//EN
CALSCALE:GREGORIAN
METHOD:PUBLISH
BEGIN:VEVENT
UID:69e75f2ddca84
DTSTAMP:20260421T112741Z
DTSTART:20250407T170000Z
DTEND:20250407T215000Z
LOCATION:Musikene
SUMMARY:PERKUSIO-INSTRUMENTUEN OINARRIZKO TEKNIKA ENTZUNALDIA
DESCRIPTION:Jesús Mari Garmendia irakaslearen ikaslegoa\nhttps://musikene.
 eus/events/audicion-tecnica-basica-de-instrumentos-de-percusion-e-instrumen
 to-complementario-percusion/?lang=eu
URL:https://musikene.eus/events/audicion-tecnica-basica-de-instrumentos-de-percusion-e-instrumento-complementario-percusion/?lang=eu
END:VEVENT
END:VCALENDAR