BEGIN:VCALENDAR
VERSION:2.0
PRODID:-//eventon.com NONSGML v1.0//EN
CALSCALE:GREGORIAN
METHOD:PUBLISH
BEGIN:VEVENT
UID:69ecd11a7655c
DTSTAMP:20260425T143506Z
DTSTART:20250226T190000Z
DTEND:20250226T225000Z
LOCATION:Musikene
SUMMARY:CONCIERTO ENSEMBLE DE METALES Y PERCUSIÓN
DESCRIPTION:ENSEMBLE DE METALES Y PERCUSION Director : Luis Gimeno &nbsp; O
 bras de : R. Strauss \,  J. R. Pascual-Vilaplana\,  Jose Guillot Gimeno \, 
  D. Shostakovich \,  Ty Watson.\nhttps://musikene.eus/events/audicion-conju
 nto-de-metales-2/
URL:https://musikene.eus/events/audicion-conjunto-de-metales-2/
END:VEVENT
END:VCALENDAR