BEGIN:VCALENDAR
VERSION:2.0
PRODID:-//eventon.com NONSGML v1.0//EN
CALSCALE:GREGORIAN
METHOD:PUBLISH
BEGIN:VEVENT
UID:69ec9c10eca25
DTSTAMP:20260425T104848Z
DTSTART:20241111T180000Z
DTEND:20241111T225000Z
LOCATION:Musikene
SUMMARY:PIANO KONTZERTUA
DESCRIPTION:Luca Fanelli\, pianoa Debussy: Berrikuntza matematikoa eta irau
 ltza musikala Komentatutako kontzertu batean (C. Debussyren lehenengo libur
 ukiaren errepertorioko Preludioen bitartez)\,  konpositoreak martxan jarri 
 zuen iraultza musikalaz hitz egingo dugu. Musika-eskala batzuen alderdi teo
 riko-numerikoan interes berezia duen matematika-esparru baten barruan (Debu
 ssyk historiaren ahanzturatik askatzen jakin zuen eskalak\,  hala nola frig
 io nagusia\,  hexatona\,  pentatonika\, [..]\nhttps://musikene.eus/events/p
 iano-kontzertua-13/?lang=eu
URL:https://musikene.eus/events/piano-kontzertua-13/?lang=eu
END:VEVENT
END:VCALENDAR