BEGIN:VCALENDAR
VERSION:2.0
PRODID:-//eventon.com NONSGML v1.0//EN
CALSCALE:GREGORIAN
METHOD:PUBLISH
BEGIN:VEVENT
UID:69ecae4479389
DTSTAMP:20260425T120628Z
DTSTART:20241111T180000Z
DTEND:20241111T225000Z
LOCATION:Musikene
SUMMARY:CONCIERTO PIANO
DESCRIPTION:LUCA FANELLI\, piano Debussy: innovación Matemática y revoluc
 ión musical El evento será un concierto comentado del repertorio del prim
 er volumen de Preludios de C. Debussy. Hablaremos de la revolución musical
  que el compositor puso en marcha\,  encuadrándola dentro de un marco mate
 mático con particular interés hacia el aspecto teórico-numérico de algu
 nas[..]\nhttps://musikene.eus/events/concierto-piano-20/
URL:https://musikene.eus/events/concierto-piano-20/
END:VEVENT
END:VCALENDAR