BEGIN:VCALENDAR
VERSION:2.0
PRODID:-//eventon.com NONSGML v1.0//EN
CALSCALE:GREGORIAN
METHOD:PUBLISH
BEGIN:VEVENT
UID:69e73d8322863
DTSTAMP:20260421T090403Z
DTSTART:20250526T170000Z
DTEND:20250526T215000Z
LOCATION:Musikene
SUMMARY:AUDICIÓN SAXOFÓN
DESCRIPTION:Alumnado de máster del profesor Miguel Ángel Lorente\nhttps:/
 /musikene.eus/events/audicion-saxofon-30/?lang=en
URL:https://musikene.eus/events/audicion-saxofon-30/?lang=en
END:VEVENT
END:VCALENDAR