BEGIN:VCALENDAR
VERSION:2.0
PRODID:-//eventon.com NONSGML v1.0//EN
CALSCALE:GREGORIAN
METHOD:PUBLISH
BEGIN:VEVENT
UID:69ecadf8480d5
DTSTAMP:20260425T120512Z
DTSTART:20241105T090000Z
DTEND:20241105T225000Z
LOCATION:Musikene
SUMMARY:AUDICIÓN TROMBÓN
DESCRIPTION:Alumnado de los profesores Juan Real y José Manuel Sánchez\nh
 ttps://musikene.eus/events/audicion-trombon-20/
URL:https://musikene.eus/events/audicion-trombon-20/
END:VEVENT
END:VCALENDAR