BEGIN:VCALENDAR
VERSION:2.0
PRODID:-//eventon.com NONSGML v1.0//EN
CALSCALE:GREGORIAN
METHOD:PUBLISH
BEGIN:VEVENT
UID:69e75653533f5
DTSTAMP:20260421T104955Z
DTSTART:20241118T173000Z
DTEND:20241118T225000Z
LOCATION:Musikene
SUMMARY:AUDICIÓN TROMPETA JAZZ
DESCRIPTION:Alumnado del profesor Chris Kase\nhttps://musikene.eus/events/a
 udicion-trompeta-jazz-11/
URL:https://musikene.eus/events/audicion-trompeta-jazz-11/
END:VEVENT
END:VCALENDAR