BEGIN:VCALENDAR
VERSION:2.0
PRODID:-//eventon.com NONSGML v1.0//EN
CALSCALE:GREGORIAN
METHOD:PUBLISH
BEGIN:VEVENT
UID:69ea7f6d9c662
DTSTAMP:20260423T202205Z
DTSTART:20241004T160000Z
DTEND:20241004T215000Z
LOCATION:LEITZA.Salón de actos del ayuntamiento de Leitza
SUMMARY:El repertorio de los txistularis de Leitza\,  de mano de Ángel Alduntzin y Miguel Ángel Sagaseta: de la interpretación a los manuscritos
DESCRIPTION:Fecha y hora: Viernes 4 de octubre &#8211; 18.00 Lugar: Salón 
 de actos del ayuntamiento de Leitza Inscripción previa: No Tratará sobre 
 el repertorio de varias generaciones de txistularis de Leitza de generació
 n en generación\,  recopilado a través del txistulari Ángel Alduntzin y 
 el sacerdote Miguel Ángel Sagaseta. Presentación del[..]\nhttps://musiken
 e.eus/events/el-repertorio-de-los-txistularis-de-leitza-de-mano-de-angel-al
 duntzin-y-miguel-angel-sagaseta-de-la-interpretacion-a-los-manuscritos/?lan
 g=en
URL:https://musikene.eus/events/el-repertorio-de-los-txistularis-de-leitza-de-mano-de-angel-alduntzin-y-miguel-angel-sagaseta-de-la-interpretacion-a-los-manuscritos/?lang=en
END:VEVENT
END:VCALENDAR