BEGIN:VCALENDAR
VERSION:2.0
PRODID:-//eventon.com NONSGML v1.0//EN
CALSCALE:GREGORIAN
METHOD:PUBLISH
BEGIN:VEVENT
UID:69eadfa8f2501
DTSTAMP:20260424T031240Z
DTSTART:20250217T090000Z
DTEND:20250218T130000Z
LOCATION:Musikene
SUMMARY:MASTERCLASS FISIOLOGÍA DE LA VOZ
DESCRIPTION:Profesor: CARLES EXPÓSITO\nhttps://musikene.eus/events/masterc
 lass-fisiologia-de-la-voz-2/
URL:https://musikene.eus/events/masterclass-fisiologia-de-la-voz-2/
END:VEVENT
END:VCALENDAR