BEGIN:VCALENDAR
VERSION:2.0
PRODID:-//eventon.com NONSGML v1.0//EN
CALSCALE:GREGORIAN
METHOD:PUBLISH
BEGIN:VEVENT
UID:69e4dfe06e2ce
DTSTAMP:20260419T140000Z
DTSTART:20240624T133000Z
DTEND:20240624T220000Z
LOCATION:DONOSTIA. Victoria Eugenia - Sala Club
SUMMARY:CONCIERTOS-CONFERENCIA FIN DE MÁSTER DE INTERPRETACIÓN JAZZ
DESCRIPTION:Estos conciertos conferencia mostrarán al público asistente e
 l Trabajo de Fin de Máster realizado por el alumnado de jazz como colofón
  a sus estudios del Máster de Interpretación Jazz en Musikene. 24 de juni
 o: 15:30 Mikel Gabiola &amp; Friends Big Band 17:30 SIÚIL : Marino Garc
 imartín (saxofón\,  flauta irlandesa)\,  María Fernández (viola\,  voz)
 \, [..]\nhttps://musikene.eus/events/conciertos-conferencia-fin-de-master-d
 e-interpretacion-jazz/
URL:https://musikene.eus/events/conciertos-conferencia-fin-de-master-de-interpretacion-jazz/
END:VEVENT
END:VCALENDAR