BEGIN:VCALENDAR
VERSION:2.0
PRODID:-//eventon.com NONSGML v1.0//EN
CALSCALE:GREGORIAN
METHOD:PUBLISH
BEGIN:VEVENT
UID:69e80bbd1edbe
DTSTAMP:20260421T234357Z
DTSTART:20240621T140000Z
DTEND:20240621T215000Z
LOCATION:Musikene
SUMMARY:CONCIERTO-CONFERENCIA FIN DE MÁSTER FLAUTA
DESCRIPTION:Mª del Rosario Guerra Pérez\,  María Teresa López Berenguer
  Alumnado del Máster en Interpretación: Flauta\nhttps://musikene.eus/even
 ts/flauta-master-amaierako-konferentzia-kontzertua/
URL:https://musikene.eus/events/flauta-master-amaierako-konferentzia-kontzertua/
END:VEVENT
END:VCALENDAR