BEGIN:VCALENDAR
VERSION:2.0
PRODID:-//eventon.com NONSGML v1.0//EN
CALSCALE:GREGORIAN
METHOD:PUBLISH
BEGIN:VEVENT
UID:69e7f171c4f49
DTSTAMP:20260421T215145Z
DTSTART:20240621T140000Z
DTEND:20240621T215000Z
LOCATION:Musikene
SUMMARY:FLAUTA MASTER AMAIERAKO KONFERENTZIA-KONTZERTUA
DESCRIPTION:Mª del Rosario Guerra Pérez\,  María Teresa López Berenguer
  Flauta: Interpretazio Masterreko ikaslegoa\nhttps://musikene.eus/events/fl
 auta-master-amaierako-konferentzia-kontzertua/?lang=eu
URL:https://musikene.eus/events/flauta-master-amaierako-konferentzia-kontzertua/?lang=eu
END:VEVENT
END:VCALENDAR