BEGIN:VCALENDAR
VERSION:2.0
PRODID:-//eventon.com NONSGML v1.0//EN
CALSCALE:GREGORIAN
METHOD:PUBLISH
BEGIN:VEVENT
UID:69ea84cfb5323
DTSTAMP:20260423T204503Z
DTSTART:20240608T173000Z
DTEND:20240608T215000Z
LOCATION:LEIOA. San Juan Bautista Eliza
SUMMARY:CONCIERTO RECITAL FIN DE GRADO DIRECCIÓN DE CORO
DESCRIPTION:Alumnado del profesor Basilio Astúlez\nhttps://musikene.eus/ev
 ents/concierto-recital-fin-de-grado-direccion-de-coro/
URL:https://musikene.eus/events/concierto-recital-fin-de-grado-direccion-de-coro/
END:VEVENT
END:VCALENDAR