BEGIN:VCALENDAR
VERSION:2.0
PRODID:-//eventon.com NONSGML v1.0//EN
CALSCALE:GREGORIAN
METHOD:PUBLISH
BEGIN:VEVENT
UID:69e8a75e5a1c7
DTSTAMP:20260422T104758Z
DTSTART:20240611T163000Z
DTEND:20240611T215000Z
LOCATION:Musikene
SUMMARY:CONCIERTO RECITAL FIN DE GRADO JAZZ-BATERÍA
DESCRIPTION:Alumnado del profesor Jo Krause\nhttps://musikene.eus/events/co
 ncierto-recital-fin-de-grado-jazz-bateria/
URL:https://musikene.eus/events/concierto-recital-fin-de-grado-jazz-bateria/
END:VEVENT
END:VCALENDAR