BEGIN:VCALENDAR
VERSION:2.0
PRODID:-//eventon.com NONSGML v1.0//EN
CALSCALE:GREGORIAN
METHOD:PUBLISH
BEGIN:VEVENT
UID:69e73eb4c5de2
DTSTAMP:20260421T090908Z
DTSTART:20240604T143000Z
DTEND:20240604T215000Z
LOCATION:Musikene
SUMMARY:CONCIERTO RECITAL FIN DE GRADO TROMPETA
DESCRIPTION:Alumnado de los profesores Luis González y José Gallego\nhttp
 s://musikene.eus/events/concierto-recital-fin-de-grado-trompeta/?lang=en
URL:https://musikene.eus/events/concierto-recital-fin-de-grado-trompeta/?lang=en
END:VEVENT
END:VCALENDAR