BEGIN:VCALENDAR
VERSION:2.0
PRODID:-//eventon.com NONSGML v1.0//EN
CALSCALE:GREGORIAN
METHOD:PUBLISH
BEGIN:VEVENT
UID:69e73f23b98d5
DTSTAMP:20260421T091059Z
DTSTART:20240502T150000Z
DTEND:20240503T110000Z
LOCATION:Musikene
SUMMARY:XI CURSO DE COMPOSICIÓN MUSIKAGILEAK
DESCRIPTION:Joan Magrané\,  profesor 2 mayo: 17:00 &#8211; 20:00 horas 3 m
 ayo: 10:00 &#8211; 13:00 horas Organiza Musikagileak en colaboración con M
 usikene\nhttps://musikene.eus/events/xi-curso-de-composicion-musikagileak/?
 lang=en
URL:https://musikene.eus/events/xi-curso-de-composicion-musikagileak/?lang=en
END:VEVENT
END:VCALENDAR