BEGIN:VCALENDAR
VERSION:2.0
PRODID:-//eventon.com NONSGML v1.0//EN
CALSCALE:GREGORIAN
METHOD:PUBLISH
BEGIN:VEVENT
UID:69e9bcb85cc87
DTSTAMP:20260423T063120Z
DTSTART:20240523T140000Z
DTEND:20240523T215000Z
LOCATION:Musikene
SUMMARY:AUDICIÓN TROMPA NATURAL
DESCRIPTION:Alumnado de la profesora Estefania Beceiro\nhttps://musikene.eu
 s/events/tronpa-naturala-entzunaldia/
URL:https://musikene.eus/events/tronpa-naturala-entzunaldia/
END:VEVENT
END:VCALENDAR