BEGIN:VCALENDAR
VERSION:2.0
PRODID:-//eventon.com NONSGML v1.0//EN
CALSCALE:GREGORIAN
METHOD:PUBLISH
BEGIN:VEVENT
UID:69e9a09acfb13
DTSTAMP:20260423T043122Z
DTSTART:20240523T140000Z
DTEND:20240523T215000Z
LOCATION:Musikene
SUMMARY:TRONPA NATURALA ENTZUNALDIA
DESCRIPTION:Estefania Beceiro irakaslearen ikaslegoa\nhttps://musikene.eus/
 events/tronpa-naturala-entzunaldia/?lang=eu
URL:https://musikene.eus/events/tronpa-naturala-entzunaldia/?lang=eu
END:VEVENT
END:VCALENDAR