BEGIN:VCALENDAR
VERSION:2.0
PRODID:-//eventon.com NONSGML v1.0//EN
CALSCALE:GREGORIAN
METHOD:PUBLISH
BEGIN:VEVENT
UID:69e73dd775d9d
DTSTAMP:20260421T090527Z
DTSTART:20240524T220000Z
DTEND:20240525T215000Z
LOCATION:Chillida Leku
SUMMARY:EDUARDO CHILLIDA 100 URTE
DESCRIPTION:EDUARDO CHILLIDA 100 URTE I Ibilbide eskultoriko-musikala hiru 
 eskulturatan museoaren barruan Musikeneko konposizioko ikasleek ondorengo e
 skulturetan oinarritutako lanak estreinatuko dituzte: &nbsp; Paula Iglesias
 -Sigler Eskultura: Buscando la luz Obraren izenburua: Buscando la luz inter
 preteak: Garazi Navas (akordeoia) eta Luis Alejandro Castillo (biolontxeloa
 ) Miguel Mercero &#8211; Eskultura: Topaketa-lekua IV &#8211; Izenburua: Ar
 tean[..]\nhttps://musikene.eus/events/eduardo-chillida-100-urte/?lang=eu
URL:https://musikene.eus/events/eduardo-chillida-100-urte/?lang=eu
END:VEVENT
END:VCALENDAR