BEGIN:VCALENDAR
VERSION:2.0
PRODID:-//eventon.com NONSGML v1.0//EN
CALSCALE:GREGORIAN
METHOD:PUBLISH
BEGIN:VEVENT
UID:69ea02d261b22
DTSTAMP:20260423T113026Z
DTSTART:20240527T130000Z
DTEND:20240527T215000Z
LOCATION:Musikene
SUMMARY:TRONPETA ENTZUNALDIA
DESCRIPTION:Luis González eta José Gallego irakasleen ikaslegoa\nhttps://
 musikene.eus/events/audicion-trompeta-23/?lang=eu
URL:https://musikene.eus/events/audicion-trompeta-23/?lang=eu
END:VEVENT
END:VCALENDAR