BEGIN:VCALENDAR
VERSION:2.0
PRODID:-//eventon.com NONSGML v1.0//EN
CALSCALE:GREGORIAN
METHOD:PUBLISH
BEGIN:VEVENT
UID:69eae7edf150e
DTSTAMP:20260424T034757Z
DTSTART:20240522T163000Z
DTEND:20240522T215000Z
LOCATION:Musikene
SUMMARY:AUDICIÓN VIOLÍN
DESCRIPTION:Alumnado de las profesoras Tatiana Samouil\,  Izaskun Echeveste
  e Irini Gaitani\nhttps://musikene.eus/events/audicion-violin-84/
URL:https://musikene.eus/events/audicion-violin-84/
END:VEVENT
END:VCALENDAR