BEGIN:VCALENDAR
VERSION:2.0
PRODID:-//eventon.com NONSGML v1.0//EN
CALSCALE:GREGORIAN
METHOD:PUBLISH
BEGIN:VEVENT
UID:69eb798050b47
DTSTAMP:20260424T140904Z
DTSTART:20240516T160000Z
DTEND:20240516T215000Z
LOCATION:Musikene
SUMMARY:AUDICIÓN PIANO COMPLEMENTARIO
DESCRIPTION:Alumnado de la profesora Lorea González\nhttps://musikene.eus/
 events/audicion-piano-complementario-9/?lang=fr
URL:https://musikene.eus/events/audicion-piano-complementario-9/?lang=fr
END:VEVENT
END:VCALENDAR