BEGIN:VCALENDAR
VERSION:2.0
PRODID:-//eventon.com NONSGML v1.0//EN
CALSCALE:GREGORIAN
METHOD:PUBLISH
BEGIN:VEVENT
UID:69e9f6b3e64f7
DTSTAMP:20260423T103843Z
DTSTART:20240427T093000Z
DTEND:20240427T215000Z
LOCATION:Musikene
SUMMARY:ENSEMBLE ASCOLTA MASTERCLASS
DESCRIPTION:Instrumentu masterclassa\nhttps://musikene.eus/events/mastercla
 ss-ensemble-ascolta-2/?lang=eu
URL:https://musikene.eus/events/masterclass-ensemble-ascolta-2/?lang=eu
END:VEVENT
END:VCALENDAR