BEGIN:VCALENDAR
VERSION:2.0
PRODID:-//eventon.com NONSGML v1.0//EN
CALSCALE:GREGORIAN
METHOD:PUBLISH
BEGIN:VEVENT
UID:69e738bfd3019
DTSTAMP:20260421T084343Z
DTSTART:20240427T093000Z
DTEND:20240427T215000Z
LOCATION:Musikene
SUMMARY:MASTERCLASS ENSEMBLE ASCOLTA
DESCRIPTION:Masterclass instrumental\nhttps://musikene.eus/events/mastercla
 ss-ensemble-ascolta-2/
URL:https://musikene.eus/events/masterclass-ensemble-ascolta-2/
END:VEVENT
END:VCALENDAR