BEGIN:VCALENDAR
VERSION:2.0
PRODID:-//eventon.com NONSGML v1.0//EN
CALSCALE:GREGORIAN
METHOD:PUBLISH
BEGIN:VEVENT
UID:69e97df0d78b1
DTSTAMP:20260423T020328Z
DTSTART:20240424T133000Z
DTEND:20240424T150000Z
LOCATION:Musikene
SUMMARY:MASTERCLASS PIANO
DESCRIPTION:« New perspectives for an old instrument. Alberto Posadas’ 
 Erinnerungsspuren and other selected contemporary compositions” &nbsp; Pr
 ofesor: Florian Hoelscher (Ensemble Ascolta) &nbsp; PROGRAMA COMPLETO AQUÍ
 \nhttps://musikene.eus/events/masterclass-piano-4/?lang=fr
URL:https://musikene.eus/events/masterclass-piano-4/?lang=fr
END:VEVENT
END:VCALENDAR