BEGIN:VCALENDAR
VERSION:2.0
PRODID:-//eventon.com NONSGML v1.0//EN
CALSCALE:GREGORIAN
METHOD:PUBLISH
BEGIN:VEVENT
UID:69e73e070eefe
DTSTAMP:20260421T090615Z
DTSTART:20240512T220000Z
DTEND:20240512T220000Z
LOCATION:Musikene
SUMMARY:JAZZ TRONBOI MASTERCLASSA
DESCRIPTION:Irakaslea: MARSHALL GILKES\nhttps://musikene.eus/events/masterc
 lass-jazz-trombon/?lang=eu
URL:https://musikene.eus/events/masterclass-jazz-trombon/?lang=eu
END:VEVENT
END:VCALENDAR