BEGIN:VCALENDAR
VERSION:2.0
PRODID:-//eventon.com NONSGML v1.0//EN
CALSCALE:GREGORIAN
METHOD:PUBLISH
BEGIN:VEVENT
UID:69e7762394d57
DTSTAMP:20260421T130539Z
DTSTART:20240512T220000Z
DTEND:20240512T220000Z
LOCATION:Musikene
SUMMARY:MASTERCLASS JAZZ TROMBÓN
DESCRIPTION:Profesor: MARSHALL GILKES\nhttps://musikene.eus/events/mastercl
 ass-jazz-trombon/?lang=fr
URL:https://musikene.eus/events/masterclass-jazz-trombon/?lang=fr
END:VEVENT
END:VCALENDAR