BEGIN:VCALENDAR
VERSION:2.0
PRODID:-//eventon.com NONSGML v1.0//EN
CALSCALE:GREGORIAN
METHOD:PUBLISH
BEGIN:VEVENT
UID:69ea9e19f2ad9
DTSTAMP:20260423T223257Z
DTSTART:20240420T180000Z
DTEND:20240420T215000Z
LOCATION:DEBA Iglesia de Santa María
SUMMARY:ORGANO KONTZERTUA
DESCRIPTION:Daniel Oyarzábal\,  organista Joan Castelló\,  organista &nbs
 p; Gipuzkoako Foru Aldundiarekin elkarlanean\nhttps://musikene.eus/events/c
 oncierto-de-organo-4/?lang=eu
URL:https://musikene.eus/events/concierto-de-organo-4/?lang=eu
END:VEVENT
END:VCALENDAR