BEGIN:VCALENDAR
VERSION:2.0
PRODID:-//eventon.com NONSGML v1.0//EN
CALSCALE:GREGORIAN
METHOD:PUBLISH
BEGIN:VEVENT
UID:69e756535f43a
DTSTAMP:20260421T104955Z
DTSTART:20240420T180000Z
DTEND:20240420T215000Z
LOCATION:DEBA Iglesia de Santa María
SUMMARY:CONCIERTO DE ÓRGANO
DESCRIPTION:Daniel Oyarzábal\,  organista Joan Castelló\,  organista &nbs
 p; En colaboración con la Diputación Foral de Gipuzkoa\nhttps://musikene.
 eus/events/concierto-de-organo-4/
URL:https://musikene.eus/events/concierto-de-organo-4/
END:VEVENT
END:VCALENDAR