BEGIN:VCALENDAR
VERSION:2.0
PRODID:-//eventon.com NONSGML v1.0//EN
CALSCALE:GREGORIAN
METHOD:PUBLISH
BEGIN:VEVENT
UID:69e7ee5223789
DTSTAMP:20260421T213826Z
DTSTART:20240222T153600Z
DTEND:20240222T153600Z
LOCATION:BILBAO. Sociedad Bilbaina
SUMMARY:CONCIERTO TRIO FAUSTO
DESCRIPTION:Mario Lanuza\,  violín Francisco López\,  violoncello Ander S
 iles\,  piano &nbsp; En colaboración con Juventudes Musicales de Bilbao\nh
 ttps://musikene.eus/events/concierto-trio-fausto/?lang=en
URL:https://musikene.eus/events/concierto-trio-fausto/?lang=en
END:VEVENT
END:VCALENDAR