BEGIN:VCALENDAR
VERSION:2.0
PRODID:-//eventon.com NONSGML v1.0//EN
CALSCALE:GREGORIAN
METHOD:PUBLISH
BEGIN:VEVENT
UID:69e73e4c65741
DTSTAMP:20260421T090724Z
DTSTART:20240503T073000Z
DTEND:20240503T215000Z
LOCATION:Musikene
SUMMARY:MASTERCLASS VIOLÍN
DESCRIPTION:Barennie Moon\,  profesora &nbsp; AULA JORDÁ GELA: EUSKADIKO O
 RKESTRA+MUSIKENE\nhttps://musikene.eus/events/masterclass-violin-10/?lang=f
 r
URL:https://musikene.eus/events/masterclass-violin-10/?lang=fr
END:VEVENT
END:VCALENDAR