BEGIN:VCALENDAR
VERSION:2.0
PRODID:-//eventon.com NONSGML v1.0//EN
CALSCALE:GREGORIAN
METHOD:PUBLISH
BEGIN:VEVENT
UID:69e840f1d16b3
DTSTAMP:20260422T033057Z
DTSTART:20240312T083000Z
DTEND:20240312T225000Z
LOCATION:Musikene
SUMMARY:ACTUALIZADO!! AUDICIÓN CONTRABAJO
DESCRIPTION:Alumnado de los profesores Pierre De Maistre y Marta Moll\nhttp
 s://musikene.eus/events/actualizado-audicion-contrabajo/
URL:https://musikene.eus/events/actualizado-audicion-contrabajo/
END:VEVENT
END:VCALENDAR