BEGIN:VCALENDAR
VERSION:2.0
PRODID:-//eventon.com NONSGML v1.0//EN
CALSCALE:GREGORIAN
METHOD:PUBLISH
BEGIN:VEVENT
UID:69ec199f2f14a
DTSTAMP:20260425T013215Z
DTSTART:20240307
DTEND:20240308
LOCATION:Musikene
SUMMARY:MASTERCLASS ACORDEÓN
DESCRIPTION:Hochschule für Music  Hannover Jueves\,  7 de marzo Viernes\,
   8 de marzo &nbsp; &nbsp;\nhttps://musikene.eus/events/masterclass-acordeo
 n-4/
URL:https://musikene.eus/events/masterclass-acordeon-4/
END:VEVENT
END:VCALENDAR