BEGIN:VCALENDAR
VERSION:2.0
PRODID:-//eventon.com NONSGML v1.0//EN
CALSCALE:GREGORIAN
METHOD:PUBLISH
BEGIN:VEVENT
UID:69e73e328aba4
DTSTAMP:20260421T090658Z
DTSTART:20240523T170000Z
DTEND:20240523T215000Z
LOCATION:DONOSTIA. Orfeon Donostiarra (calle san Juan)
SUMMARY:CONCIERTO QUINTETO BERART
DESCRIPTION:Silvia Ferro\,  clarinete Gontzal Rodriguez\,  violín Ander Be
 ngoetxea\,  violín Paula Chana\,  viola Luis Rodrigues\,  violoncello\nhtt
 ps://musikene.eus/events/concierto-quinteto-berart/?lang=fr
URL:https://musikene.eus/events/concierto-quinteto-berart/?lang=fr
END:VEVENT
END:VCALENDAR