BEGIN:VCALENDAR
VERSION:2.0
PRODID:-//eventon.com NONSGML v1.0//EN
CALSCALE:GREGORIAN
METHOD:PUBLISH
BEGIN:VEVENT
UID:69e74db384d18
DTSTAMP:20260421T101307Z
DTSTART:20240202T200000Z
DTEND:20240202T225000Z
LOCATION:Donostia. Tabakalera. Kutxa Fundazioa Kluba
SUMMARY:CONCIERTO ANTONIO LOZANO TRIO y VELASQUINTET
DESCRIPTION:ANTONIO LOZANO TRIO Antonio Lozano : saxo Joao Marcus Fontenla:
  bajo eléctrico Ager Alzola: batería + invitada: Nora Carramiñana: tecla
 do + voz &nbsp; VELASQUINTET Miguel Velasco: saxo XabierArriola: trompeta N
 ico Alvear: guitarra Jorge Luengo: bajo Eléctrico Eneko Arbea: batería\nh
 ttps://musikene.eus/events/concierto-antonio-lozano-trio-y-velasquintet/
URL:https://musikene.eus/events/concierto-antonio-lozano-trio-y-velasquintet/
END:VEVENT
END:VCALENDAR