BEGIN:VCALENDAR
VERSION:2.0
PRODID:-//eventon.com NONSGML v1.0//EN
CALSCALE:GREGORIAN
METHOD:PUBLISH
BEGIN:VEVENT
UID:69e73f6a0e0e0
DTSTAMP:20260421T091210Z
DTSTART:20240528
DTEND:20240529
LOCATION:Musikene
SUMMARY:MASTERCLASS TROMPA
DESCRIPTION:University of Munster Martes\,  28 de mayo 9:30-13:30 Miércole
 s\,  29 de mayo 9:30-13:30 Jueves\,  30 de mayo 9:30-13:30 &nbsp; &nbsp;\nh
 ttps://musikene.eus/events/masterclass-trompa-5/?lang=en
URL:https://musikene.eus/events/masterclass-trompa-5/?lang=en
END:VEVENT
END:VCALENDAR