BEGIN:VCALENDAR
VERSION:2.0
PRODID:-//eventon.com NONSGML v1.0//EN
CALSCALE:GREGORIAN
METHOD:PUBLISH
BEGIN:VEVENT
UID:69e54d5db88ec
DTSTAMP:20260419T214709Z
DTSTART:20240129T090000Z
DTEND:20240129T225000Z
LOCATION:Musikene
SUMMARY:AUDICIÓN TROMPETA
DESCRIPTION:Alumnado de los profesores Luis González y José Gallego\nhttp
 s://musikene.eus/events/tronpeta-entzunaldia-3/?lang=en
URL:https://musikene.eus/events/tronpeta-entzunaldia-3/?lang=en
END:VEVENT
END:VCALENDAR