BEGIN:VCALENDAR
VERSION:2.0
PRODID:-//eventon.com NONSGML v1.0//EN
CALSCALE:GREGORIAN
METHOD:PUBLISH
BEGIN:VEVENT
UID:69e9e83707535
DTSTAMP:20260423T093655Z
DTSTART:20231219T173000Z
DTEND:20231219T225000Z
LOCATION:Musikene
SUMMARY:BIOLINA ENTZUNALDIA
DESCRIPTION:Tatiana Samouil\,  Izaskun Etxebeste\,  Liana Gourjia eta Eirin
 i Gaitani irakasleen ikaslegoa\nhttps://musikene.eus/events/biolina-entzuna
 ldia-25/?lang=eu
URL:https://musikene.eus/events/biolina-entzunaldia-25/?lang=eu
END:VEVENT
END:VCALENDAR